BEGIN:VCALENDAR
VERSION:2.0
PRODID:gruene-niederbayern.de
METHOD:PUBLISH
BEGIN:VTIMEZONE
TZID:Europe/Berlin
X-LIC-LOCATION:Europe/Berlin
BEGIN:DAYLIGHT
TZOFFSETFROM:+0100
TZOFFSETTO:+0200
TZNAME:CEST
DTSTART:19700329T020000
RRULE:FREQ=YEARLY;INTERVAL=1;BYDAY=-1SU;BYMONTH=3
END:DAYLIGHT
BEGIN:STANDARD
TZOFFSETFROM:+0200
TZOFFSETTO:+0100
TZNAME:CET
DTSTART:19701025T030000
RRULE:FREQ=YEARLY;INTERVAL=1;BYDAY=-1SU;BYMONTH=10
END:STANDARD
END:VTIMEZONE
BEGIN:VEVENT
UID:44feef5d374baedf4e8dc5d1ec3647a0@gruene-niederbayern.de
URL;VALUE=URI:https://gruene-niederbayern.de/termine/gribs-kommunalkongre
 ss/
LOCATION:Karl-Bröger-Zentrum in Nürnberg, Karl-Bröger-Straße 9, Nürn
 berg
SUMMARY:GRIBS-Kommunalkongress
DESCRIPTION;ALTREP="data:text/html,%0A%3Cp%3EEinmal%20im%20Jahr%2C%20in%2
 0der%20Regel%20im%20Mai%2C%20findet%20der%20GRIBS-Kommunalkongress%20stat
 t%2C%20eine%20Veranstaltung%20des%20GRIBS-Bildungswerkes%20e.V.%20in%20Ko
 operation%20mit%20der%20Petra-Kelly-Stiftung.%20Der%20Kongress%20ist%20We
 iterbildungsangebot%20und%20Plattform%20f%C3%BCr%20den%20Erfahrungsaustau
 sch%20%E2%80%93%20ob%20zu%20inhaltlichen%20Themen%2C%20strategischen%20Fr
 agen%20oder%20pers%C3%B6nlichen%20Fertigkeiten.%20Hier%20wird%20euch%20Hi
 ntergrundwissen%20genauso%20vermittelt%20wie%20praktische%20Beispiele.%20
 Gemeinsam%20schauen%20wir%20%C3%BCber%20den%20Tellerrand%20und%20diskutie
 ren%20Innovationen.%20Und%20haben%20Spa%C3%9F%20zusammen%21%3C%2Fp%3E%0A%
 0A%0A%0A%3Cp%3EHier%20k%C3%B6nnt%20ihr%20euch%20anmelden%3A%3C%2Fp%3E%0A%
 0A%0A%0A%3Cp%3E%3Ca%20href%3D%22https%3A%2F%2Fwww.gribs.net%2Fpublic%2Fme
 nu%2F3%2Fpost%2F1%2F950%2F2872%22%3Ehttps%3A%2F%2Fwww.gribs.net%2Fpublic%
 2Fmenu%2F3%2Fpost%2F1%2F950%2F2872%3C%2Fa%3E%3C%2Fp%3E%0A%0A%0A%0A%3Cdiv%
 20data-wp-interactive%3D%22core%2Ffile%22%20class%3D%22wp-block-file%22%3
 E%3Cobject%20data-wp-bind--hidden%3D%22%21state.hasPdfPreview%22%20hidden
 %20class%3D%22wp-block-file__embed%22%20data%3D%22https%3A%2F%2Fgruene-ni
 ederbayern.de%2Fwp-content%2Fuploads%2Fsites%2F208%2F2026%2F04%2FFlyer_Ko
 ngress2026_RZ3.pdf%22%20type%3D%22application%2Fpdf%22%20style%3D%22width
 %3A100%25%3Bheight%3A600px%22%20aria-label%3D%22Einbettung%20von%20Flyer_
 Kongress2026_RZ3.%22%3E%3C%2Fobject%3E%3Ca%20id%3D%22wp-block-file--media
 -9147cc28-773f-4bca-bd6c-7a4938e3aee0%22%20href%3D%22https%3A%2F%2Fgruene
 -niederbayern.de%2Fwp-content%2Fuploads%2Fsites%2F208%2F2026%2F04%2FFlyer
 _Kongress2026_RZ3.pdf%22%3EFlyer_Kongress2026_RZ3%3C%2Fa%3E%3Ca%20href%3D
 %22https%3A%2F%2Fgruene-niederbayern.de%2Fwp-content%2Fuploads%2Fsites%2F
 208%2F2026%2F04%2FFlyer_Kongress2026_RZ3.pdf%22%20class%3D%22wp-block-fil
 e__button%20wp-element-button%22%20download%20aria-describedby%3D%22wp-bl
 ock-file--media-9147cc28-773f-4bca-bd6c-7a4938e3aee0%22%3EHerunterladen%3
 C%2Fa%3E%3C%2Fdiv%3E%0A":Einmal im Jahr\, in der Regel im Mai\, findet de
 r GRIBS-Kommunalkongress statt\, eine Veranstaltung des GRIBS-Bildungswer
 kes e.V. in Kooperation mit der Petra-Kelly-Stiftung. Der Kongress ist We
 iterbildungsangebot und Plattform für den Erfahrungsaustausch – ob zu 
 inhaltlichen Themen\, strategischen Fragen oder persönlichen Fertigkeite
 n. Hier wird euch Hintergrundwissen genauso vermittelt wie praktische Bei
 spiele. Gemeinsam schauen wir über den Tellerrand und diskutieren Innova
 tionen. Und haben Spaß zusammen!\n\nHier könnt ihr euch anmelden:\n\nht
 tps://www.gribs.net/public/menu/3/post/1/950/2872\n\nFlyer_Kongress2026_R
 Z3Herunterladen
CLASS:PUBLIC
DTSTART;TZID=Europe/Berlin:20260515T143000
DTEND;TZID=Europe/Berlin:20260516T170000
DTSTAMP:20260424T120454
END:VEVENT
END:VCALENDAR