BEGIN:VCALENDAR
VERSION:2.0
PRODID:gruene-niederbayern.de
METHOD:PUBLISH
BEGIN:VTIMEZONE
TZID:Europe/Berlin
X-LIC-LOCATION:Europe/Berlin
BEGIN:DAYLIGHT
TZOFFSETFROM:+0100
TZOFFSETTO:+0200
TZNAME:CEST
DTSTART:19700329T020000
RRULE:FREQ=YEARLY;INTERVAL=1;BYDAY=-1SU;BYMONTH=3
END:DAYLIGHT
BEGIN:STANDARD
TZOFFSETFROM:+0200
TZOFFSETTO:+0100
TZNAME:CET
DTSTART:19701025T030000
RRULE:FREQ=YEARLY;INTERVAL=1;BYDAY=-1SU;BYMONTH=10
END:STANDARD
END:VTIMEZONE
BEGIN:VEVENT
UID:4d262f3ddbd30057bd82e1291904f3d2@gruene-niederbayern.de
URL;VALUE=URI:https://gruene-niederbayern.de/termine/bericht-aus-minga-2/
LOCATION:Online
SUMMARY:Bericht aus Minga
DESCRIPTION;ALTREP="data:text/html,%0A%3Cp%3E%3Cstrong%3EIhr%20habt%20Fra
 gen%20zur%20Landespolitik%3F%20Mia%20und%20Toni%20berichten%20aus%20M%C3%
 BCnchen.%3C%2Fstrong%3E%3C%2Fp%3E%0A%0A%0A%0A%3Cp%3EMittwoch%2C%2012.11.2
 025%2C%20um%2020%3A30%20Uhr.%20Seid%20dabei%21%3C%2Fp%3E%0A%0A%0A%0A%3Cp%
 3EDie%20Veranstaltung%20ist%20online.%20Zugangsdaten%20gibt%20es%20gerne%
 20auf%20Anfrage%20an%20%3Ca%20href%3D%22linkTo_UnCryptMailto%28%2527jxfiq
 l7fkclXdorbkb%253Akfbaboyxvbok%252Bab%2527%29%3B%22%3Einfo%40gruene-niede
 rbayern.de%3C%2Fa%3E.%20Die%20Veranstaltung%20ist%20Mitglieder-intern.%3C
 %2Fp%3E%0A%0A%0A%0A%3Cp%3E%3C%2Fp%3E%0A":Ihr habt Fragen zur Landespoliti
 k? Mia und Toni berichten aus München.\n\nMittwoch\, 12.11.2025\, um 20:
 30 Uhr. Seid dabei!\n\nDie Veranstaltung ist online. Zugangsdaten gibt es
  gerne auf Anfrage an info@gruene-niederbayern.de. Die Veranstaltung ist 
 Mitglieder-intern.
CLASS:PUBLIC
DTSTART;TZID=Europe/Berlin:20251112T203000
DTEND;TZID=Europe/Berlin:20251112T213000
DTSTAMP:20260421T103536
END:VEVENT
END:VCALENDAR